BEGIN:VCALENDAR
VERSION:2.0
PRODID:-//AudioTheme 3.0.2
BEGIN:VEVENT
UID:urn:uuid:bf0b8430-efea-4290-aef8-fd6cd5fe2fb5
URL:https://www.interpretations.info/concerts/2021-1028/
DTSTART;TZID=GMT:20211029T000000
SUMMARY:Roscoe Mitchell
DESCRIPTION:Roscoe Mitchell returns to Interpretations for a full evening of chamber works and improvisations...
LOCATION:Roulette\, 509 Atlantic Ave\, Brooklyn\, NY\, 11217
END:VEVENT
END:VCALENDAR
