BEGIN:VCALENDAR
VERSION:2.0
PRODID:-//AudioTheme 3.0.2
BEGIN:VEVENT
UID:urn:uuid:7d9c30f9-cae4-48d2-8064-ee292cc8d008
URL:https://www.interpretations.info/concerts/2021-1118/
DTSTART;TZID=GMT:20211119T010000
SUMMARY:Mari Kimura | Joseph Kubera
DESCRIPTION:A split bill featuring Violinist/composer Mari Kimura and pianist Joseph Kubera...
LOCATION:Roulette\, 509 Atlantic Ave\, Brooklyn\, NY\, 11217
END:VEVENT
END:VCALENDAR
