BEGIN:VCALENDAR
VERSION:2.0
PRODID:-//AudioTheme 3.0.2
BEGIN:VEVENT
UID:urn:uuid:2ebfca91-62f7-406f-bacc-c173d1dda3d4
URL:https://www.interpretations.info/concerts/2022-0310/
DTSTART;TZID=GMT:20220311T010000
SUMMARY:Thomas Buckner
DESCRIPTION:Baritone ​Thomas Buckner sings music by Earl Howard\, Pauline Kim\, JD Parran and Thomas Buckner...
LOCATION:Roulette\, 509 Atlantic Ave\, Brooklyn\, NY\, 11217
END:VEVENT
END:VCALENDAR
