BEGIN:VCALENDAR
VERSION:2.0
PRODID:-//AudioTheme 3.0.2
BEGIN:VEVENT
UID:urn:uuid:95f855f8-5645-4274-b5d3-a651f83bdcf2
URL:https://www.interpretations.info/concerts/2023-03-09/
DTSTART;TZID=GMT:20230310T010000
SUMMARY:DAN JOSEPH / MICHAEL BYRON
DESCRIPTION:A split program featuring composers Dan Joseph and Michael Byron
LOCATION:Roulette\, 509 Atlantic Ave\, Brooklyn\, NY\, 11217
END:VEVENT
END:VCALENDAR
