BEGIN:VCALENDAR
VERSION:2.0
PRODID:-//AudioTheme 3.0.2
BEGIN:VEVENT
UID:urn:uuid:94ed56b0-a513-4968-b2af-6f23d0b2f71f
URL:https://www.interpretations.info/concerts/2023-0413/
DTSTART;TZID=GMT:20230414T000000
SUMMARY:ALEXANDRA GARDNER / JOHANNES SIDENIUS
DESCRIPTION:A split program featuring Finnish composer/performer Johannes Sidenius and composer Alexandra Gardner
LOCATION:Roulette\, 509 Atlantic Ave\, Brooklyn\, NY\, 11217
END:VEVENT
END:VCALENDAR
