BEGIN:VCALENDAR
VERSION:2.0
PRODID:-//AudioTheme 3.0.2
BEGIN:VEVENT
UID:urn:uuid:13ddba67-28fd-4012-8d0f-494c3e551cb8
URL:https://www.interpretations.info/concerts/2024-03-07/
DTSTART;TZID=GMT:20240308T010000
SUMMARY:YUKO FUJIYAMA / REGGIE NICHOLSON
DESCRIPTION:A split bill featuring Yuko Fujiyama's Contemporary East and the Reggie Nicholson Brass Concept
LOCATION:Roulette\, 509 Atlantic Ave\, Brooklyn\, NY\, 11217
END:VEVENT
END:VCALENDAR
