BEGIN:VCALENDAR
VERSION:2.0
PRODID:-//AudioTheme 3.0.2
BEGIN:VEVENT
UID:urn:uuid:6490db3b-ff95-40e4-a2fb-b97375a65521
URL:https://www.interpretations.info/concerts/2024-04-11/
DTSTART;TZID=GMT:20240412T000000
SUMMARY:DAVID BEHRMAN / BEN NEILL
DESCRIPTION:A split bill featuring composer and Artist David Behrman\, and composer/performer Ben Neill
LOCATION:Roulette\, 509 Atlantic Ave\, Brooklyn\, NY\, 11217
END:VEVENT
END:VCALENDAR
