BEGIN:VCALENDAR
VERSION:2.0
PRODID:-//AudioTheme 3.0.2
BEGIN:VEVENT
UID:urn:uuid:2fb6919c-3801-43c7-8634-19d695790b3e
URL:https://www.interpretations.info/concerts/2024-11-07/
DTSTART;TZID=GMT:20241108T010000
SUMMARY:MARTY EHRLICH / INGRID LAUBROCK
DESCRIPTION:A split bill featuring the music of composer/performers Marty Ehrlich and Ingrid Laubrock
LOCATION:Roulette\, 509 Atlantic Ave\, Brooklyn\, NY\, 11217
END:VEVENT
END:VCALENDAR
