BEGIN:VCALENDAR
VERSION:2.0
PRODID:-//AudioTheme 3.0.2
BEGIN:VEVENT
UID:urn:uuid:b5febb00-5e09-427a-9969-3ba24b898ccc
URL:https://www.interpretations.info/concerts/2025-03-06/
DTSTART;TZID=GMT:20250307T010000
SUMMARY:An Evening with SPACE & special guest Robert Dick
DESCRIPTION:SPACE (Thomas Buckner\, Roscoe Mitchell\, Scott Robinson) with special guest Robert Dick
LOCATION:Roulette\, 509 Atlantic Ave\, Brooklyn\, NY\, 11217
END:VEVENT
END:VCALENDAR
