BEGIN:VCALENDAR
VERSION:2.0
PRODID:-//AudioTheme 3.0.2
BEGIN:VEVENT
UID:urn:uuid:18129540-bfe4-4493-9f84-7a72f6c2606d
URL:https://www.interpretations.info/concerts/2025-04-10/
DTSTART;TZID=GMT:20250411T000000
SUMMARY:Anthony Davis, Earl Howard, Gerry Hemingway, Kyle Motl
DESCRIPTION:Compositions and improvisations featuring Anthony Davis (piano)\, Earl Howard (saxophone and synthesizer)\, Gerry Hemingway (percussion) and Kyle Motl (bass)
LOCATION:Roulette\, 509 Atlantic Ave\, Brooklyn\, NY\, 11217
END:VEVENT
END:VCALENDAR
