BEGIN:VCALENDAR
VERSION:2.0
PRODID:-//AudioTheme 3.0.2
BEGIN:VEVENT
UID:urn:uuid:ca8bfe82-ab44-4adc-8702-d80182f8e1f0
URL:https://www.interpretations.info/concerts/2025-10-23/
DTSTART;TZID=GMT:20251024T000000
SUMMARY:J D Parran / One System
DESCRIPTION:A split bill featuring JD Parran’s Protestation and Prayer for Peace and Survival\, and the collaborative trio One System.
LOCATION:Roulette\, 509 Atlantic Ave\, Brooklyn\, NY\, 11217
END:VEVENT
END:VCALENDAR
