BEGIN:VCALENDAR
VERSION:2.0
PRODID:-//AudioTheme 3.0.2
BEGIN:VEVENT
UID:urn:uuid:2e593749-630c-441d-8098-bf178b63906f
URL:https://www.interpretations.info/concerts/2025-12-04/
DTSTART;TZID=GMT:20251205T010000
SUMMARY:Sam Weinberg / Ghost Ensemble
DESCRIPTION:A split bill featuring the Sam Weinberg Trio and Ghost Ensemble performing works by Davachi and Richter
LOCATION:Roulette\, 509 Atlantic Ave\, Brooklyn\, NY\, 11217
END:VEVENT
END:VCALENDAR
