BEGIN:VCALENDAR
VERSION:2.0
PRODID:-//AudioTheme 3.0.2
BEGIN:VEVENT
UID:urn:uuid:079c8469-8fb5-442c-bde7-10093800ce45
URL:https://www.interpretations.info/concerts/2026-03-19/
DTSTART;TZID=GMT:20260320T000000
SUMMARY:Mari Kimura / Frasconi-Hamilton-Ostrowski
DESCRIPTION:A split program featuring the trio Present: Miguel Frasconi\, Tom Hamilton and Matthew Ostrowski\, with guest Meaghan Burke\; and violinist/composer Mari Kimura performing a solo program featuring works written for violin and the MUGIC© motion sensor which she developed and manufactured.
LOCATION:Roulette\, 509 Atlantic Ave\, Brooklyn\, NY\, 11217
END:VEVENT
END:VCALENDAR
