BEGIN:VCALENDAR
VERSION:2.0
PRODID:-//AudioTheme 3.0.2
BEGIN:VEVENT
UID:urn:uuid:3a0110b8-356f-41dc-ba9e-8ec8a936345f
URL:https://www.interpretations.info/concerts/2026-04-23/
DTSTART;TZID=GMT:20260424T000000
SUMMARY:Thomas Buckner & James Ilgenfritz
DESCRIPTION:An evening improvisation and experimentation with baritone Thomas Buckner and bassist James Ilgenfritz 
LOCATION:Roulette\, 509 Atlantic Ave\, Brooklyn\, NY\, 11217
END:VEVENT
END:VCALENDAR
